BEGIN:VCALENDAR
VERSION:2.0
PRODID:icalendar-ruby
CALSCALE:GREGORIAN
METHOD:PUBLISH
BEGIN:VEVENT
DTSTAMP:20260422T143919Z
UID:79-589093@thevine.tv
DTSTART:20260507T120000Z
DTEND:20260507T130000Z
CLASS:PUBLIC
CREATED:20260421T155042
DESCRIPTION:Come together for a time of prayer for our community!
LAST-MODIFIED:20260421T155042
LOCATION:The Thom\, 151 Ribault St.\, Spartanburg\, SC 29306
SUMMARY:National Day of Prayer Breakfast
URL;VALUE=URI:https://thevine.tv/events/national-day-of-prayer-breakfast/20
 26-05-07
ATTACH;FILENAME=Prayer Breakfast Graphic 2026.png;FMTTYPE=image/png:https:/
 /dq5pwpg1q8ru0.cloudfront.net/2026/04/21/19/50/41/fe3e0330-fa01-476c-afaf-
 44fdffa96e82/Prayer%20Breakfast%20Graphic%202026.png
END:VEVENT
END:VCALENDAR
